BEGIN:VCALENDAR
VERSION:2.0
PRODID:Upper Dublin, PA Calendar Creator
METHOD:PUBLISH
BEGIN:VEVENT
DTSTAMP:20241008T181608
DTSTART:20251204T190000
DTEND:20251204T190000
SUMMARY:Environmental Protection Advisory Board
DESCRIPTION:<a href="https://upper2.prod-as.govaccess.org/government/township-meetings/agendas-minutes-video-links">Agendas, Minutes &amp; Video Links</a>
X-ALT-DESC;FMTTYPE=text/html:<a href="https://upper2.prod-as.govaccess.org/government/township-meetings/agendas-minutes-video-links">Agendas, Minutes &amp; Video Links</a>
LOCATION:Upper Dublin Library\, 520 Virginia Drive Fort Washington\, Pennsylvania 19034
CLASS:PUBLIC
END:VEVENT
END:VCALENDAR
