BEGIN:VCALENDAR
VERSION:2.0
PRODID:Upper Dublin, PA Calendar Creator
METHOD:PUBLISH
BEGIN:VEVENT
DTSTAMP:20250107T112738
DTSTART:20251225T000000
DTEND:20251225T235900
SUMMARY:Christmas Day - Township Offices Closed
DESCRIPTION:<p style="text-align: left;">Township offices will be closed on&nbsp; Thursday, December 25th in observance of Christmas Day. Trash &amp; recycling collections in area B are rescheduled for Wednesday, December 24th. </p>
X-ALT-DESC;FMTTYPE=text/html:<p style="text-align: left;">Township offices will be closed on&nbsp; Thursday, December 25th in observance of Christmas Day. Trash &amp; recycling collections in area B are rescheduled for Wednesday, December 24th. </p>
LOCATION:
CLASS:PUBLIC
END:VEVENT
END:VCALENDAR
