BEGIN:VCALENDAR
VERSION:2.0
PRODID:Upper Dublin, PA Calendar Creator
METHOD:PUBLISH
BEGIN:VEVENT
DTSTAMP:20250107T135002
DTSTART:20251231T000000
DTEND:20251231T235900
SUMMARY:Thursday's Rescheduled Trash & Recycling Collections (Area B)
DESCRIPTION:Trash &amp; recycling in area B will be collected today due to this week's holiday.
X-ALT-DESC;FMTTYPE=text/html:Trash &amp; recycling in area B will be collected today due to this week's holiday.
LOCATION:
CLASS:PUBLIC
END:VEVENT
END:VCALENDAR
