BEGIN:VCALENDAR
VERSION:2.0
PRODID:Upper Dublin, PA Calendar Creator
METHOD:PUBLISH
BEGIN:VEVENT
DTSTAMP:20250107T144136
DTSTART:20251103T000000
DTEND:20251107T235900
SUMMARY:Leaf Collection - Zone 2
DESCRIPTION:More information &amp; the leaf zone map can be found on the&nbsp;<a href="https://upper2.prod-as.govaccess.org/government/departments/public-works/sanitation-services/leaf-collection">Leaf Collection</a>&nbsp;page.
X-ALT-DESC;FMTTYPE=text/html:More information &amp; the leaf zone map can be found on the&nbsp;<a href="https://upper2.prod-as.govaccess.org/government/departments/public-works/sanitation-services/leaf-collection">Leaf Collection</a>&nbsp;page.
LOCATION:
CLASS:PUBLIC
END:VEVENT
END:VCALENDAR
