BEGIN:VCALENDAR
VERSION:2.0
PRODID:Upper Dublin, PA Calendar Creator
METHOD:PUBLISH
BEGIN:VEVENT
DTSTAMP:20250107T144957
DTSTART:20251208T000000
DTEND:20251212T235900
SUMMARY:Leaf Collection - Zone 3
DESCRIPTION:More information &amp; the leaf zone map can be found on the&nbsp;<a href="https://upperdublin.prod.govaccess.org/?navid=154">Leaf Collection</a>&nbsp;page.
X-ALT-DESC;FMTTYPE=text/html:More information &amp; the leaf zone map can be found on the&nbsp;<a href="https://upperdublin.prod.govaccess.org/?navid=154">Leaf Collection</a>&nbsp;page.
LOCATION:
CLASS:PUBLIC
END:VEVENT
END:VCALENDAR
