BEGIN:VCALENDAR
VERSION:2.0
PRODID:Upper Dublin, PA Calendar Creator
METHOD:PUBLISH
BEGIN:VEVENT
DTSTAMP:20260115T160900
DTSTART:20260710T103000
DTEND:20260710T153000
SUMMARY:American Red Cross Blood Drive
DESCRIPTION:
X-ALT-DESC;FMTTYPE=text/html:
LOCATION:Fort Washington Fire Company\, 1245 Fort Washington Avenue Fort Washington\, Pennsylvania 19034
CLASS:PUBLIC
END:VEVENT
END:VCALENDAR
