BEGIN:VCALENDAR
VERSION:2.0
PRODID:Upper Dublin, PA Calendar Creator
METHOD:PUBLISH
BEGIN:VEVENT
DTSTAMP:20260120T131338
DTSTART:20261207T000000
DTEND:20261211T235900
SUMMARY:Leaf Collections - Zone 3
DESCRIPTION:<a href="https://upper2.prod-as.govaccess.org/home/showpublisheddocument/172/638315832450700000" target="_blank" rel="noopener">Leaf Collection Zones Map</a>
X-ALT-DESC;FMTTYPE=text/html:<a href="https://upper2.prod-as.govaccess.org/home/showpublisheddocument/172/638315832450700000" target="_blank" rel="noopener">Leaf Collection Zones Map</a>
LOCATION:
CLASS:PUBLIC
END:VEVENT
END:VCALENDAR
