BEGIN:VCALENDAR
VERSION:2.0
PRODID:Upper Dublin, PA Calendar Creator
METHOD:PUBLISH
BEGIN:VEVENT
DTSTAMP:20260120T141248
DTSTART:20261012T000000
DTEND:20261012T235900
SUMMARY:Indigenous People's Day/Columbus Day - Township Offices Closed
DESCRIPTION:Trash &amp; Recycling in Area A will be collected on Wednesday, October 14th.<br>Yard Waste in Area D will be collected on Saturday, October 17th.
X-ALT-DESC;FMTTYPE=text/html:Trash &amp; Recycling in Area A will be collected on Wednesday, October 14th.<br>Yard Waste in Area D will be collected on Saturday, October 17th.
LOCATION:
CLASS:PUBLIC
END:VEVENT
END:VCALENDAR
