BEGIN:VCALENDAR
VERSION:2.0
PRODID:Upper Dublin, PA Calendar Creator
METHOD:PUBLISH
BEGIN:VEVENT
DTSTAMP:20260120T141409
DTSTART:20261014T000000
DTEND:20261014T235900
SUMMARY:No Yard Waste Collections (Moved to Saturday)
DESCRIPTION:Yard waste in Areas B &amp; C (and D) will be collected on Saturday, October 17th.&nbsp;
X-ALT-DESC;FMTTYPE=text/html:Yard waste in Areas B &amp; C (and D) will be collected on Saturday, October 17th.&nbsp;
LOCATION:
CLASS:PUBLIC
END:VEVENT
END:VCALENDAR
