BEGIN:VCALENDAR
VERSION:2.0
PRODID:Upper Dublin, PA Calendar Creator
METHOD:PUBLISH
BEGIN:VEVENT
DTSTAMP:20260130T122755
DTSTART:20260422T140000
DTEND:20260422T150000
SUMMARY:Online Author: Miranda Cowley Heller
DESCRIPTION:<p><strong>Dates: </strong>Wednesday 4/22<br><strong>Time:</strong>&nbsp;2-3p<br><span style="font-size: 1.125rem;"></span><strong style="font-size: 1.125rem;">Age Group:&nbsp;</strong><span style="font-size: 1.125rem;">Adults 18+</span></p><p><strong>Program Location:</strong>&nbsp;Online</p><p><strong>Registration:</strong><a href="https://libraryc.org/upperdublinlibrary/145857" target="_blank" rel="noopener">&nbsp;</a><strong><a href="https://libraryc.org/upperdublinlibrary/147105" target="_blank" rel="noopener">Register &amp; Submit Author Questions HERE.</a></strong></p><p><strong>Description:&nbsp;<br></strong><span style="font-size: 1.125rem;">Award-winning and bestselling author Miranda Cowley Heller takes us on an intimate journey through the life stages of a woman in her new poetry collection,&nbsp;</span><em style="font-size: 1.125rem;">What the Deep Water Knows</em><span style="font-size: 1.125rem;">. Delicate, yet exceedingly raw, these poems will transport you as vividly as any work of fiction.&nbsp;</span></p><p>&nbsp;<em style="font-size: 1.125rem;">If I could fly backward, I would.</em></p><p><em>To the safety of branches, to the time</em></p><p><em>when my heart still raced for you,</em></p><p><em>twelve hundred beats a minute.</em></p><p>&nbsp;<span style="font-size: 1.125rem;">In poetry that is at once bold and lyrical, affecting and devastatingly frank, Miranda Cowley Heller takes us through childhood, marriage, motherhood, and beyond. Suffused with the natural world and the landscape of Cape Cod, where many of the poems are set,&nbsp;</span><em style="font-size: 1.125rem;">What the Deep Water Knows</em><span style="font-size: 1.125rem;">&nbsp;contemplates love in all the seasons.</span></p><p>Register now to celebrate National Poetry Month with this graceful new poetry collection.</p><p><strong style="font-size: 1.125rem;">Author Bios:<br></strong><span style="font-size: 1.125rem;">Miranda Cowley Heller was raised in New York City and Cape Cod. Her debut novel&nbsp;<em>The Paper Palace</em>&nbsp;was a number one&nbsp;<em>New York Times</em>&nbsp;bestseller in the US, a&nbsp;<em>Sunday Times</em>&nbsp;bestseller in the UK, and was longlisted for the Women’s Prize. She has worked as a senior vice president and head of drama series at HBO, developing and overseeing such shows as&nbsp;<em>The Sopranos, Six Feet Under, The Wire, Deadwood,&nbsp;</em>and&nbsp;<em>Big Love,</em>&nbsp;among others. This is her first poetry collection.</span></p><p>&nbsp;<strong style="font-size: 1.125rem;">Registration:<a href="https://libraryc.org/upperdublinlibrary/147105" target="_blank" rel="noopener">&nbsp;<strong>Register &amp; Submit Author Questions HERE.</strong></a></strong></p><hr><p>UDPL's Distinguished Author Series - Bestselling authors share their books with you in a live, virtual forum. Real-time Q&amp;A. Participate from anywhere you can connect. This series is generously sponsored by the Friends of UDPL with support from the Robert V. Stutz Distinguished Authors Fund.</p><p>This series is presented in collaboration with the Library Speakers Consortium.</p>
X-ALT-DESC;FMTTYPE=text/html:<p><strong>Dates: </strong>Wednesday 4/22<br><strong>Time:</strong>&nbsp;2-3p<br><span style="font-size: 1.125rem;"></span><strong style="font-size: 1.125rem;">Age Group:&nbsp;</strong><span style="font-size: 1.125rem;">Adults 18+</span></p><p><strong>Program Location:</strong>&nbsp;Online</p><p><strong>Registration:</strong><a href="https://libraryc.org/upperdublinlibrary/145857" target="_blank" rel="noopener">&nbsp;</a><strong><a href="https://libraryc.org/upperdublinlibrary/147105" target="_blank" rel="noopener">Register &amp; Submit Author Questions HERE.</a></strong></p><p><strong>Description:&nbsp;<br></strong><span style="font-size: 1.125rem;">Award-winning and bestselling author Miranda Cowley Heller takes us on an intimate journey through the life stages of a woman in her new poetry collection,&nbsp;</span><em style="font-size: 1.125rem;">What the Deep Water Knows</em><span style="font-size: 1.125rem;">. Delicate, yet exceedingly raw, these poems will transport you as vividly as any work of fiction.&nbsp;</span></p><p>&nbsp;<em style="font-size: 1.125rem;">If I could fly backward, I would.</em></p><p><em>To the safety of branches, to the time</em></p><p><em>when my heart still raced for you,</em></p><p><em>twelve hundred beats a minute.</em></p><p>&nbsp;<span style="font-size: 1.125rem;">In poetry that is at once bold and lyrical, affecting and devastatingly frank, Miranda Cowley Heller takes us through childhood, marriage, motherhood, and beyond. Suffused with the natural world and the landscape of Cape Cod, where many of the poems are set,&nbsp;</span><em style="font-size: 1.125rem;">What the Deep Water Knows</em><span style="font-size: 1.125rem;">&nbsp;contemplates love in all the seasons.</span></p><p>Register now to celebrate National Poetry Month with this graceful new poetry collection.</p><p><strong style="font-size: 1.125rem;">Author Bios:<br></strong><span style="font-size: 1.125rem;">Miranda Cowley Heller was raised in New York City and Cape Cod. Her debut novel&nbsp;<em>The Paper Palace</em>&nbsp;was a number one&nbsp;<em>New York Times</em>&nbsp;bestseller in the US, a&nbsp;<em>Sunday Times</em>&nbsp;bestseller in the UK, and was longlisted for the Women’s Prize. She has worked as a senior vice president and head of drama series at HBO, developing and overseeing such shows as&nbsp;<em>The Sopranos, Six Feet Under, The Wire, Deadwood,&nbsp;</em>and&nbsp;<em>Big Love,</em>&nbsp;among others. This is her first poetry collection.</span></p><p>&nbsp;<strong style="font-size: 1.125rem;">Registration:<a href="https://libraryc.org/upperdublinlibrary/147105" target="_blank" rel="noopener">&nbsp;<strong>Register &amp; Submit Author Questions HERE.</strong></a></strong></p><hr><p>UDPL's Distinguished Author Series - Bestselling authors share their books with you in a live, virtual forum. Real-time Q&amp;A. Participate from anywhere you can connect. This series is generously sponsored by the Friends of UDPL with support from the Robert V. Stutz Distinguished Authors Fund.</p><p>This series is presented in collaboration with the Library Speakers Consortium.</p>
LOCATION:Online\, 
CLASS:PUBLIC
END:VEVENT
END:VCALENDAR
