BEGIN:VCALENDAR
VERSION:2.0
PRODID:Upper Dublin, PA Calendar Creator
METHOD:PUBLISH
BEGIN:VEVENT
DTSTAMP:20260312T132146
DTSTART:20261017T080000
DTEND:20261017T120000
SUMMARY:Compost Site Open
DESCRIPTION:
X-ALT-DESC;FMTTYPE=text/html:
LOCATION:Compost Site\, 1128 Camphill Road Fort Washington\, Pennsylvania 19034
CLASS:PUBLIC
END:VEVENT
END:VCALENDAR
