BEGIN:VCALENDAR
VERSION:2.0
PRODID:Upper Dublin, PA Calendar Creator
METHOD:PUBLISH
BEGIN:VEVENT
DTSTAMP:20260324T073027
DTSTART:20260429T103000
DTEND:20260429T110000
SUMMARY:Books with Blue: Police Officer Storytime
DESCRIPTION:<p><strong>Dates: </strong>Wednesday 4/29<br><strong>Time: </strong>10:30-11a<br><strong>Age Group:&nbsp;</strong>Ages 3-5 yrs</p><p><strong>Program Location:</strong> StoryLab </p><p><strong>Description:</strong>&nbsp;Listen to a story read by a police officer from the Upper Dublin Police Department and ask them questions about their job.</p><p><em>Upper Dublin Library strives to make our programs accessible for all. For reasonable accommodations, please contact the library at 215-628-8744 or upperdublinlibrary@mclinc.org.</em></p><p><strong>Instructor:</strong> Jennifer Roberts &amp; the Upper Dublin Police Department</p><p><b>No registration required.</b></p><hr><p style="text-align: left;"></p><p style="text-align: left;"><strong>&nbsp;<br></strong><strong style="font-size: 1.125rem;">Upper Dublin Public Library is a Family Place Library<br></strong><span style="font-size: 1.125rem;">Building Strong Communities through Early Childhood Development, Parent Education, and Family Support</span></p>
X-ALT-DESC;FMTTYPE=text/html:<p><strong>Dates: </strong>Wednesday 4/29<br><strong>Time: </strong>10:30-11a<br><strong>Age Group:&nbsp;</strong>Ages 3-5 yrs</p><p><strong>Program Location:</strong> StoryLab </p><p><strong>Description:</strong>&nbsp;Listen to a story read by a police officer from the Upper Dublin Police Department and ask them questions about their job.</p><p><em>Upper Dublin Library strives to make our programs accessible for all. For reasonable accommodations, please contact the library at 215-628-8744 or upperdublinlibrary@mclinc.org.</em></p><p><strong>Instructor:</strong> Jennifer Roberts &amp; the Upper Dublin Police Department</p><p><b>No registration required.</b></p><hr><p style="text-align: left;"></p><p style="text-align: left;"><strong>&nbsp;<br></strong><strong style="font-size: 1.125rem;">Upper Dublin Public Library is a Family Place Library<br></strong><span style="font-size: 1.125rem;">Building Strong Communities through Early Childhood Development, Parent Education, and Family Support</span></p>
LOCATION:StoryLab (Children's Library)\, 
CLASS:PUBLIC
END:VEVENT
END:VCALENDAR
