BEGIN:VCALENDAR
VERSION:2.0
PRODID:Upper Dublin, PA Calendar Creator
METHOD:PUBLISH
BEGIN:VEVENT
DTSTAMP:20260324T083826
DTSTART:20260418T080000
DTEND:20260418T093000
SUMMARY:Shade Tree Commission's Adopt-A-Tree
DESCRIPTION:<p>The Shade Tree Commission “Adopt-a-Tree” Event is here with 285 native trees available for adoption! <u>Tree reservations are required and available on a first come, first served basis</u>. <strong>Reserve your choice of tree <a href="https://nam11.safelinks.protection.outlook.com/?url=https%3A%2F%2Flinks-1.govdelivery.com%2FCL0%2Fhttps%3A%252F%252Fwww.upperdublinrec.net%252Frecreation%252Fprogram-registration%252Fshade-tree-giveaway%2F1%2F0100019ce8a144fd-29350d6b-70d2-412c-b764-d6f1d0c42fa9-000000%2FurwGtBuJv-xc7_I7YQXG4z-qe9ij5FPJWdP_mlpAswA%3D448&amp;data=05%7C02%7Crlohoefer%40upperdublin.net%7Cec9887ecdb374ade6a1308de813513e9%7C9afd15b9dddb4aa09d6068c376784acf%7C1%7C0%7C639090262157132089%7CUnknown%7CTWFpbGZsb3d8eyJFbXB0eU1hcGkiOnRydWUsIlYiOiIwLjAuMDAwMCIsIlAiOiJXaW4zMiIsIkFOIjoiTWFpbCIsIldUIjoyfQ%3D%3D%7C0%7C%7C%7C&amp;sdata=wyl7jOcjfFApUkHpa481WGaKPnX2noKshtBjH1xBf%2BQ%3D&amp;reserved=0" target="_blank">online here</a>! Early registration is recommended.</strong></p><p>There are limits to each tree species and only one tree per Upper Dublin Township residence, business operators, and property owners for planting in Upper Dublin is allowed. An additional tree may be available for adoption depending on availability.</p><p><strong>Pick up your tree on Saturday, April 18 from 8:00 am to 9:30 am in the Upper Dublin Library parking lot at 520 Virginia Drive, Fort Washington.</strong> The container trees will range in height from 3 to 5 feet. You are responsible for transporting the tree to your property and for planting the tree.</p><p>Although the trees will be offered without charge, in order for the Shade Tree Commission to continue this program, donations are requested and greatly appreciated at the time of adoption. The current cost per tree is about $16. A donation option is available when you reserve your trees. If you would like to make an additional donation via check to the Shade Tree Commission, directions will be included on your receipt. Cash is also accepted when you pick up your tree.</p><p>Questions or inquiries can be directed to <a href="mailto:shadetree.commission@upperdublin.net" target="_blank">shadetree.commission@upperdublin.net</a>.</p><p><strong>Interested in doing more for Upper Dublin trees?</strong> Become a <a href="https://nam11.safelinks.protection.outlook.com/?url=https%3A%2F%2Flinks-1.govdelivery.com%2FCL0%2Fhttps%3A%252F%252Fwww.upperdublinrec.net%252Fhome%252Fshowpublisheddocument%252F2886%252F638966559345000000%2F1%2F0100019ce8a144fd-29350d6b-70d2-412c-b764-d6f1d0c42fa9-000000%2FXtcKE_8uuzT4jYl0HzS7X5kTJVff4ULOZvZOFUtoZIM%3D448&amp;data=05%7C02%7Crlohoefer%40upperdublin.net%7Cec9887ecdb374ade6a1308de813513e9%7C9afd15b9dddb4aa09d6068c376784acf%7C1%7C0%7C639090262157160938%7CUnknown%7CTWFpbGZsb3d8eyJFbXB0eU1hcGkiOnRydWUsIlYiOiIwLjAuMDAwMCIsIlAiOiJXaW4zMiIsIkFOIjoiTWFpbCIsIldUIjoyfQ%3D%3D%7C0%7C%7C%7C&amp;sdata=RL54bbpWwNtc%2FIPOVuLSzG8XOSgqprtkEqwxSWrwtEg%3D&amp;reserved=0" target="_blank">Tree Patrol volunteer</a>. Volunteer options include watering, weeding, and straightening trees several times a season. <a href="https://nam11.safelinks.protection.outlook.com/?url=https%3A%2F%2Flinks-1.govdelivery.com%2FCL0%2Fhttps%3A%252F%252Fwww.upperdublinrec.net%252Four-department%252Fupper-dublin-c-a-r-e-s%2F1%2F0100019ce8a144fd-29350d6b-70d2-412c-b764-d6f1d0c42fa9-000000%2FvV1lH9BAydiQeRsSno9Ey4WTJ8OTDF37_fheZoBFn8s%3D448&amp;data=05%7C02%7Crlohoefer%40upperdublin.net%7Cec9887ecdb374ade6a1308de813513e9%7C9afd15b9dddb4aa09d6068c376784acf%7C1%7C0%7C639090262157187971%7CUnknown%7CTWFpbGZsb3d8eyJFbXB0eU1hcGkiOnRydWUsIlYiOiIwLjAuMDAwMCIsIlAiOiJXaW4zMiIsIkFOIjoiTWFpbCIsIldUIjoyfQ%3D%3D%7C0%7C%7C%7C&amp;sdata=1JsZC8CS24CkRTAJFZQlrrla6AVQ6W2y9SeVgCwcLKc%3D&amp;reserved=0" target="_blank">Click here</a> to visit the UD C.A.R.E.S. webpage.</p>
X-ALT-DESC;FMTTYPE=text/html:<p>The Shade Tree Commission “Adopt-a-Tree” Event is here with 285 native trees available for adoption! <u>Tree reservations are required and available on a first come, first served basis</u>. <strong>Reserve your choice of tree <a href="https://nam11.safelinks.protection.outlook.com/?url=https%3A%2F%2Flinks-1.govdelivery.com%2FCL0%2Fhttps%3A%252F%252Fwww.upperdublinrec.net%252Frecreation%252Fprogram-registration%252Fshade-tree-giveaway%2F1%2F0100019ce8a144fd-29350d6b-70d2-412c-b764-d6f1d0c42fa9-000000%2FurwGtBuJv-xc7_I7YQXG4z-qe9ij5FPJWdP_mlpAswA%3D448&amp;data=05%7C02%7Crlohoefer%40upperdublin.net%7Cec9887ecdb374ade6a1308de813513e9%7C9afd15b9dddb4aa09d6068c376784acf%7C1%7C0%7C639090262157132089%7CUnknown%7CTWFpbGZsb3d8eyJFbXB0eU1hcGkiOnRydWUsIlYiOiIwLjAuMDAwMCIsIlAiOiJXaW4zMiIsIkFOIjoiTWFpbCIsIldUIjoyfQ%3D%3D%7C0%7C%7C%7C&amp;sdata=wyl7jOcjfFApUkHpa481WGaKPnX2noKshtBjH1xBf%2BQ%3D&amp;reserved=0" target="_blank">online here</a>! Early registration is recommended.</strong></p><p>There are limits to each tree species and only one tree per Upper Dublin Township residence, business operators, and property owners for planting in Upper Dublin is allowed. An additional tree may be available for adoption depending on availability.</p><p><strong>Pick up your tree on Saturday, April 18 from 8:00 am to 9:30 am in the Upper Dublin Library parking lot at 520 Virginia Drive, Fort Washington.</strong> The container trees will range in height from 3 to 5 feet. You are responsible for transporting the tree to your property and for planting the tree.</p><p>Although the trees will be offered without charge, in order for the Shade Tree Commission to continue this program, donations are requested and greatly appreciated at the time of adoption. The current cost per tree is about $16. A donation option is available when you reserve your trees. If you would like to make an additional donation via check to the Shade Tree Commission, directions will be included on your receipt. Cash is also accepted when you pick up your tree.</p><p>Questions or inquiries can be directed to <a href="mailto:shadetree.commission@upperdublin.net" target="_blank">shadetree.commission@upperdublin.net</a>.</p><p><strong>Interested in doing more for Upper Dublin trees?</strong> Become a <a href="https://nam11.safelinks.protection.outlook.com/?url=https%3A%2F%2Flinks-1.govdelivery.com%2FCL0%2Fhttps%3A%252F%252Fwww.upperdublinrec.net%252Fhome%252Fshowpublisheddocument%252F2886%252F638966559345000000%2F1%2F0100019ce8a144fd-29350d6b-70d2-412c-b764-d6f1d0c42fa9-000000%2FXtcKE_8uuzT4jYl0HzS7X5kTJVff4ULOZvZOFUtoZIM%3D448&amp;data=05%7C02%7Crlohoefer%40upperdublin.net%7Cec9887ecdb374ade6a1308de813513e9%7C9afd15b9dddb4aa09d6068c376784acf%7C1%7C0%7C639090262157160938%7CUnknown%7CTWFpbGZsb3d8eyJFbXB0eU1hcGkiOnRydWUsIlYiOiIwLjAuMDAwMCIsIlAiOiJXaW4zMiIsIkFOIjoiTWFpbCIsIldUIjoyfQ%3D%3D%7C0%7C%7C%7C&amp;sdata=RL54bbpWwNtc%2FIPOVuLSzG8XOSgqprtkEqwxSWrwtEg%3D&amp;reserved=0" target="_blank">Tree Patrol volunteer</a>. Volunteer options include watering, weeding, and straightening trees several times a season. <a href="https://nam11.safelinks.protection.outlook.com/?url=https%3A%2F%2Flinks-1.govdelivery.com%2FCL0%2Fhttps%3A%252F%252Fwww.upperdublinrec.net%252Four-department%252Fupper-dublin-c-a-r-e-s%2F1%2F0100019ce8a144fd-29350d6b-70d2-412c-b764-d6f1d0c42fa9-000000%2FvV1lH9BAydiQeRsSno9Ey4WTJ8OTDF37_fheZoBFn8s%3D448&amp;data=05%7C02%7Crlohoefer%40upperdublin.net%7Cec9887ecdb374ade6a1308de813513e9%7C9afd15b9dddb4aa09d6068c376784acf%7C1%7C0%7C639090262157187971%7CUnknown%7CTWFpbGZsb3d8eyJFbXB0eU1hcGkiOnRydWUsIlYiOiIwLjAuMDAwMCIsIlAiOiJXaW4zMiIsIkFOIjoiTWFpbCIsIldUIjoyfQ%3D%3D%7C0%7C%7C%7C&amp;sdata=1JsZC8CS24CkRTAJFZQlrrla6AVQ6W2y9SeVgCwcLKc%3D&amp;reserved=0" target="_blank">Click here</a> to visit the UD C.A.R.E.S. webpage.</p>
LOCATION:Upper Dublin Library\, 520 Virginia Drive Fort Washington\, Pennsylvania 19034
CLASS:PUBLIC
END:VEVENT
END:VCALENDAR
