BEGIN:VCALENDAR
VERSION:2.0
PRODID:Upper Dublin, PA Calendar Creator
METHOD:PUBLISH
BEGIN:VEVENT
DTSTAMP:20260415T084015
DTSTART:20260502T140000
DTEND:20260502T150000
SUMMARY:AAPI Stories Exhibit Opening Reception
DESCRIPTION:<div><strong>Date:</strong>&nbsp;Saturday 5/2</div><div><p><strong>Time:</strong>&nbsp;2:00-3:00p<br><strong>Age Group:</strong>&nbsp;All ages<br><br><strong>Program Location:</strong>&nbsp;Atrium &amp; Lobby<br><br><strong>Description:</strong>&nbsp;Join us to celebrate the Asian American and Pacific Islander (AAPI) Heritage Month!<br>o Explore the AAPI Stories Exhibit &amp; free books/resources<br>o Celebrate the UDHS ASA Student Leadership Awards<br>o Enjoy snacks, live music, conversations &amp; more</p></div>
X-ALT-DESC;FMTTYPE=text/html:<div><strong>Date:</strong>&nbsp;Saturday 5/2</div><div><p><strong>Time:</strong>&nbsp;2:00-3:00p<br><strong>Age Group:</strong>&nbsp;All ages<br><br><strong>Program Location:</strong>&nbsp;Atrium &amp; Lobby<br><br><strong>Description:</strong>&nbsp;Join us to celebrate the Asian American and Pacific Islander (AAPI) Heritage Month!<br>o Explore the AAPI Stories Exhibit &amp; free books/resources<br>o Celebrate the UDHS ASA Student Leadership Awards<br>o Enjoy snacks, live music, conversations &amp; more</p></div>
LOCATION:
CLASS:PUBLIC
END:VEVENT
END:VCALENDAR
